BEGIN:VCALENDAR
VERSION:2.0
PRODID:-//Roux Institute at Northeastern University - ECPv6.10.2//NONSGML v1.0//EN
CALSCALE:GREGORIAN
METHOD:PUBLISH
X-ORIGINAL-URL:https://roux.northeastern.edu
X-WR-CALDESC:Events for Roux Institute at Northeastern University
REFRESH-INTERVAL;VALUE=DURATION:PT1H
X-Robots-Tag:noindex
X-PUBLISHED-TTL:PT1H
BEGIN:VTIMEZONE
TZID:America/New_York
BEGIN:DAYLIGHT
TZOFFSETFROM:-0500
TZOFFSETTO:-0400
TZNAME:EDT
DTSTART:20240310T070000
END:DAYLIGHT
BEGIN:STANDARD
TZOFFSETFROM:-0400
TZOFFSETTO:-0500
TZNAME:EST
DTSTART:20241103T060000
END:STANDARD
END:VTIMEZONE
BEGIN:VEVENT
DTSTART;TZID=America/New_York:20241029T120000
DTEND;TZID=America/New_York:20241029T130000
DTSTAMP:20260425T205929
CREATED:20240816T182631Z
LAST-MODIFIED:20241017T141644Z
UID:16614-1730203200-1730206800@roux.northeastern.edu
SUMMARY:Founder Story: Vlad Korshin: PathPilot
DESCRIPTION:Hosted in collaboration with E-Club\, Future of Healthcare Founder Residency\, Founder Residency\, and the ClimateTech Incubator\, this ongoing series will feature Roux Portfolio Start-ups  and Maine based companies\, who will speak about their  challenges\, wins\, and beginnings in the startup world. \nThis series will give students\, other founders\, and community members a chance to ask a founder questions\, learn about their experiences\, and enjoy a great lunch!
URL:https://roux.northeastern.edu/event/founder-story-vlad-korshin-stealth-mode/
LOCATION:The Roux Institute at Northeastern University\, 100 Fore Street\, Portland\, ME\, 04101
CATEGORIES:ClimateTech Incubator,Founder Residency,Startup Community,The Future of Healthcare Founder Residency
END:VEVENT
END:VCALENDAR