BEGIN:VCALENDAR
VERSION:2.0
PRODID:-//Roux Institute at Northeastern University - ECPv6.10.2//NONSGML v1.0//EN
CALSCALE:GREGORIAN
METHOD:PUBLISH
X-WR-CALNAME:Roux Institute at Northeastern University
X-ORIGINAL-URL:https://roux.northeastern.edu
X-WR-CALDESC:Events for Roux Institute at Northeastern University
REFRESH-INTERVAL;VALUE=DURATION:PT1H
X-Robots-Tag:noindex
X-PUBLISHED-TTL:PT1H
BEGIN:VTIMEZONE
TZID:America/New_York
BEGIN:DAYLIGHT
TZOFFSETFROM:-0500
TZOFFSETTO:-0400
TZNAME:EDT
DTSTART:20240310T070000
END:DAYLIGHT
BEGIN:STANDARD
TZOFFSETFROM:-0400
TZOFFSETTO:-0500
TZNAME:EST
DTSTART:20241103T060000
END:STANDARD
END:VTIMEZONE
BEGIN:VEVENT
DTSTART;TZID=America/New_York:20241115T123000
DTEND;TZID=America/New_York:20241115T131500
DTSTAMP:20260422T033502
CREATED:20241104T141720Z
LAST-MODIFIED:20241113T185501Z
UID:17640-1731673800-1731676500@roux.northeastern.edu
SUMMARY:Unlock the Potential of AI: Get to Know The Roux Institute & The Institute for Experiential AI
DESCRIPTION:AI is all around us\, whether we are aware of it or not. As part of Northeastern University\, the Institute for Experiential AI (EAI) and The Roux Institute bring together world-class experts and resources to help students and partners leverage AI\, while keeping humans at the center to ensure responsible outcomes.
URL:https://roux.northeastern.edu/event/unlock-the-potential-of-ai-get-to-know-the-roux-institute-the-institute-for-experiential-ai/
LOCATION:Virtual Event
CATEGORIES:Partner Community
ATTACH;FMTTYPE=image/png:https://roux.northeastern.edu/wp-content/uploads/EAI-OctEvent-Qy0oeO.tmp_-e1730729974422.png
END:VEVENT
END:VCALENDAR