BEGIN:VCALENDAR
VERSION:2.0
PRODID:-//Roux Institute at Northeastern University - ECPv6.10.2//NONSGML v1.0//EN
CALSCALE:GREGORIAN
METHOD:PUBLISH
X-WR-CALNAME:Roux Institute at Northeastern University
X-ORIGINAL-URL:https://roux.northeastern.edu
X-WR-CALDESC:Events for Roux Institute at Northeastern University
REFRESH-INTERVAL;VALUE=DURATION:PT1H
X-Robots-Tag:noindex
X-PUBLISHED-TTL:PT1H
BEGIN:VTIMEZONE
TZID:America/New_York
BEGIN:DAYLIGHT
TZOFFSETFROM:-0500
TZOFFSETTO:-0400
TZNAME:EDT
DTSTART:20250309T070000
END:DAYLIGHT
BEGIN:STANDARD
TZOFFSETFROM:-0400
TZOFFSETTO:-0500
TZNAME:EST
DTSTART:20251102T060000
END:STANDARD
END:VTIMEZONE
BEGIN:VEVENT
DTSTART;TZID=America/New_York:20250508T073000
DTEND;TZID=America/New_York:20250508T103000
DTSTAMP:20260425T115153
CREATED:20250325T195846Z
LAST-MODIFIED:20250325T195846Z
UID:18312-1746689400-1746700200@roux.northeastern.edu
SUMMARY:Mainebiz Women's Leadership Forum 2025
DESCRIPTION:The Mainebiz Women’s Leadership Forum brings together a panel of women executives to share their unique experiences and perspectives on leadership through personal stories and key learnings. This year’s focus is leveraging partnerships for growth: harnessing the power of networks\, collaboration\, and mentorship. \nModerated by Katie Shorey\, President of Startup Maine and Director of Engagement at Live + Work in Maine\, the panel will feature: \n•Michelle Anderson\, President & CEO of Junior Achievement of Maine \n•Mufalo Chitam\, Executive Director of the Maine Immigrants’ Rights Coalition \n•Liz Kohler\, Managing Director of Strategy\, Operations\, & Growth at Northeastern University’s Roux Institute \n•Andrea Cianchette Maker\, President & Co-Chair of FocusMaine \n•Laura Rinck\, President of Rinck Advertising \n 
URL:https://roux.northeastern.edu/event/mainebiz-womens-leadership-forum-2025/
LOCATION:Good Theater at Stevens Square\, 631 Stevens Avenue\, Portland\, ME\, 04103\, United States
CATEGORIES:Partner Community
ATTACH;FMTTYPE=image/avif:https://roux.northeastern.edu/wp-content/uploads/Mainebiz-WLF.avif
END:VEVENT
BEGIN:VEVENT
DTSTART;TZID=America/New_York:20250508T080000
DTEND;TZID=America/New_York:20250508T160000
DTSTAMP:20260425T115153
CREATED:20250417T194743Z
LAST-MODIFIED:20250417T194743Z
UID:18349-1746691200-1746720000@roux.northeastern.edu
SUMMARY:ClimateWork Maine 2025 Summit on Maine's Economy and Climate Change
DESCRIPTION:Join ClimateWork Maine for the 3rd Annual Summit on Maine’s Economy & Climate Change. This pivotal event will take place on May 8\, 2025\, and it promises to be a day filled with informative sessions and engaging discussions that focus on actionable climate solutions. \nThis summit is not just another conference; it’s an opportunity to make a real difference in your community and your business. Whether you are a business owner looking to adopt sustainable practices or an advocate for change in your local area\, this summit will equip you with the tools you need to drive climate action effectively. Together\, we can forge a better future for Maine. It’s time to come together\, share ideas\, and collaborate on innovative solutions that address the pressing challenges of climate change. \nThis summit brings together industry experts\, thought leaders\, and passionate individuals like yourself\, all committed to finding innovative solutions. RSVP to explore how climate change will reshape Maine’s economy and provide actionable strategies for sustainable growth.
URL:https://roux.northeastern.edu/event/climatework-maine-2025-summit-on-maines-economy-and-climate-change/
LOCATION:Augusta Civic Center\, 76 Community Drive\, Augusta\, ME\, 04330\, United States
CATEGORIES:ClimateTech Incubator,Startup Community
ATTACH;FMTTYPE=image/png:https://roux.northeastern.edu/wp-content/uploads/ClimateWork-Maine-Summit-2025.png
END:VEVENT
END:VCALENDAR