BEGIN:VCALENDAR
VERSION:2.0
PRODID:-//Roux Institute at Northeastern University - ECPv6.10.2//NONSGML v1.0//EN
CALSCALE:GREGORIAN
METHOD:PUBLISH
X-WR-CALNAME:Roux Institute at Northeastern University
X-ORIGINAL-URL:https://roux.northeastern.edu
X-WR-CALDESC:Events for Roux Institute at Northeastern University
REFRESH-INTERVAL;VALUE=DURATION:PT1H
X-Robots-Tag:noindex
X-PUBLISHED-TTL:PT1H
BEGIN:VTIMEZONE
TZID:America/New_York
BEGIN:DAYLIGHT
TZOFFSETFROM:-0500
TZOFFSETTO:-0400
TZNAME:EDT
DTSTART:20250309T070000
END:DAYLIGHT
BEGIN:STANDARD
TZOFFSETFROM:-0400
TZOFFSETTO:-0500
TZNAME:EST
DTSTART:20251102T060000
END:STANDARD
END:VTIMEZONE
BEGIN:VEVENT
DTSTART;TZID=America/New_York:20251014T160000
DTEND;TZID=America/New_York:20251014T180000
DTSTAMP:20260425T201809
CREATED:20250905T161317Z
LAST-MODIFIED:20250917T135743Z
UID:18663-1760457600-1760464800@roux.northeastern.edu
SUMMARY:Wave Making: An Evening of Impact with Author David E. Shaw
DESCRIPTION:Join renowned entrepreneur\, conservationist\, and philanthropist David Shaw for an inspiring evening exploring the power of impact-driven leadership. Shaw will share insights from his remarkable career founding and guiding science-based companies and global conservation initiatives. This event will highlight how business\, science\, and social good intersect to create lasting change. Guests will leave energized by stories of innovation\, advocacy\, and bold ideas that make waves in Maine and beyond.  \n  \n\nAbout David Evans Shaw: \n\n\nDavid Evans Shaw is CEO of Black Point Group and a prominent American business and social entrepreneur with wide-ranging global leadership experience in science-driven companies\, investment management\, and social impact initiatives. He founded IDEXX Laboratories and served as founding CEO and chair of Ikaria Pharmaceuticals and co-founder of Covetrus\, among other leadership roles in firms advancing healthcare and environmental innovation. Shaw’s public service includes appointments as faculty at Harvard’s John F. Kennedy School of Government\, treasurer emeritus of the American Association for the Advancement of Science\, and chair emeritus of The Jackson Laboratory. A leader in science-based conservation\, he has served with the National Park Foundation\, International Union for Conservation of Nature\, and Ocean Elders\, and founded the Sargasso Sea Alliance and Second Century Stewardship for America’s national parks. He has supported numerous organizations in science\, conservation\, and media\, and produces documentary films and public presentations to advance advocacy initiatives. Shaw’s honors include induction into the Teddy Roosevelt Society and the UNH Entrepreneurship Hall of Fame\, as well as honorary degrees from Colby College\, Bates College\, the University of New England\, Maine College of Art\, and the University of Southern Maine. He resides in Maine.
URL:https://roux.northeastern.edu/event/wave-making-inspired-by-impact/
LOCATION:Northeastern University’s Roux Institute\, 100 Fore Street\, Portland\, 04101\, United States
CATEGORIES:Startup Community
ATTACH;FMTTYPE=image/png:https://roux.northeastern.edu/wp-content/uploads/Screenshot-2025-09-17-at-9.33.33-AM.png
END:VEVENT
END:VCALENDAR