BEGIN:VCALENDAR
VERSION:2.0
PRODID:-//Roux Institute at Northeastern University - ECPv6.10.2//NONSGML v1.0//EN
CALSCALE:GREGORIAN
METHOD:PUBLISH
X-WR-CALNAME:Roux Institute at Northeastern University
X-ORIGINAL-URL:https://roux.northeastern.edu
X-WR-CALDESC:Events for Roux Institute at Northeastern University
REFRESH-INTERVAL;VALUE=DURATION:PT1H
X-Robots-Tag:noindex
X-PUBLISHED-TTL:PT1H
BEGIN:VTIMEZONE
TZID:America/New_York
BEGIN:DAYLIGHT
TZOFFSETFROM:-0500
TZOFFSETTO:-0400
TZNAME:EDT
DTSTART:20250309T070000
END:DAYLIGHT
BEGIN:STANDARD
TZOFFSETFROM:-0400
TZOFFSETTO:-0500
TZNAME:EST
DTSTART:20251102T060000
END:STANDARD
END:VTIMEZONE
BEGIN:VEVENT
DTSTART;TZID=America/New_York:20251028T163000
DTEND;TZID=America/New_York:20251028T180000
DTSTAMP:20260419T204305
CREATED:20250814T144702Z
LAST-MODIFIED:20251020T155619Z
UID:18523-1761669000-1761674400@roux.northeastern.edu
SUMMARY:Maine Visionary Leaders
DESCRIPTION:The NACD New England Chapter\, The Roux Institute at Northeastern University and the Portland Regional Chamber of Commerce are pleased to present a special Visionaries event celebrating the far-reaching vision of Maine and New England business leaders. \nThe event will bring together CEOs from a diverse set of Maine businesses together with key leaders from State Government to discuss how businesses in the region are navigating the new world of uncertainty. From changing patterns of trade and tariffs to AI and emerging technologies. \nFor boards and their directors\, building an agile and resilient environment has never been as important as it is today. Decisions made today will have widespread impacts. Some decisions lead to consequences that cannot be predicted or clearly defined. What framework for decision-making have leading boards adopted in the current environment? What are the current issues at the top of boards’ agendas? What do boards need to understand? How can they stay current and where should they focus?
URL:https://roux.northeastern.edu/event/maine-visionary-leaders/
LOCATION:Northeastern University’s Roux Institute\, 100 Fore Street\, Portland\, 04101\, United States
CATEGORIES:Partner Community
ATTACH;FMTTYPE=image/png:https://roux.northeastern.edu/wp-content/uploads/image-3-1.png
END:VEVENT
END:VCALENDAR