BEGIN:VCALENDAR
VERSION:2.0
PRODID:-//Roux Institute at Northeastern University - ECPv6.10.2//NONSGML v1.0//EN
CALSCALE:GREGORIAN
METHOD:PUBLISH
X-WR-CALNAME:Roux Institute at Northeastern University
X-ORIGINAL-URL:https://roux.northeastern.edu
X-WR-CALDESC:Events for Roux Institute at Northeastern University
REFRESH-INTERVAL;VALUE=DURATION:PT1H
X-Robots-Tag:noindex
X-PUBLISHED-TTL:PT1H
BEGIN:VTIMEZONE
TZID:America/New_York
BEGIN:DAYLIGHT
TZOFFSETFROM:-0500
TZOFFSETTO:-0400
TZNAME:EDT
DTSTART:20250309T070000
END:DAYLIGHT
BEGIN:STANDARD
TZOFFSETFROM:-0400
TZOFFSETTO:-0500
TZNAME:EST
DTSTART:20251102T060000
END:STANDARD
END:VTIMEZONE
BEGIN:VEVENT
DTSTART;TZID=America/New_York:20251115T090000
DTEND;TZID=America/New_York:20251116T160000
DTSTAMP:20260424T032426
CREATED:20250929T182420Z
LAST-MODIFIED:20250930T164501Z
UID:18755-1763197200-1763308800@roux.northeastern.edu
SUMMARY:Wilderness First Aid (WFA) course
DESCRIPTION:WFA is a two-day course and focuses on the basic skills of: Response and Assessment\, Musculoskeletal Injuries\, Environmental Emergencies\, Soft Tissue Injuries\, and Medical Emergencies. It will run from approximately 9:00am – 4:00pm on BOTH Saturday and Sunday\, November 15th and 16th. Registration is required. Ability to attend both Saturday and Sunday is required. The course is a mix of classroom instruction and skills training. We use scenarios (where you may be a pretend patient!)\, demonstrations\, and hands-on exercises to emphasize the material. WFA is the perfect course for someone interested in what it takes to provide patient care in an outdoor environment\, when resources are limited\, and help may be far away. WFA is great for the outdoor enthusiast\, trip leader\, or for anyone interested in learning more about patient care! Upon course completion you’ll receive a SOLO Wilderness First Aid certification which is good for two years.
URL:https://roux.northeastern.edu/event/wilderness-first-aid-wfa-course/
LOCATION:Northeastern University’s Roux Institute\, 100 Fore Street\, Portland\, 04101\, United States
CATEGORIES:Learner Community,Research Community
ATTACH;FMTTYPE=image/png:https://roux.northeastern.edu/wp-content/uploads/Screenshot-2025-09-30-at-12.44.30-PM.png
END:VEVENT
END:VCALENDAR