BEGIN:VCALENDAR
VERSION:2.0
PRODID:-//Roux Institute at Northeastern University - ECPv6.10.2//NONSGML v1.0//EN
CALSCALE:GREGORIAN
METHOD:PUBLISH
X-WR-CALNAME:Roux Institute at Northeastern University
X-ORIGINAL-URL:https://roux.northeastern.edu
X-WR-CALDESC:Events for Roux Institute at Northeastern University
REFRESH-INTERVAL;VALUE=DURATION:PT1H
X-Robots-Tag:noindex
X-PUBLISHED-TTL:PT1H
BEGIN:VTIMEZONE
TZID:America/New_York
BEGIN:DAYLIGHT
TZOFFSETFROM:-0500
TZOFFSETTO:-0400
TZNAME:EDT
DTSTART:20250309T070000
END:DAYLIGHT
BEGIN:STANDARD
TZOFFSETFROM:-0400
TZOFFSETTO:-0500
TZNAME:EST
DTSTART:20251102T060000
END:STANDARD
END:VTIMEZONE
BEGIN:VEVENT
DTSTART;TZID=America/New_York:20251211T110000
DTEND;TZID=America/New_York:20251211T130000
DTSTAMP:20260419T092253
CREATED:20250929T180737Z
LAST-MODIFIED:20251208T211117Z
UID:18753-1765450800-1765458000@roux.northeastern.edu
SUMMARY:Intrapreneurship for Nonprofits: Avangrid Foundation
DESCRIPTION:The Intrapreneurship for Nonprofits program\, developed by Northeastern University’s Roux Institute with support from the Avangrid Foundation\, helps Maine nonprofits apply entrepreneurial thinking to strengthen their missions and expand their impact. The five-month program equips leaders with tools to develop new revenue streams\, refine business models\, explore pricing and marketing strategies\, and build a strong online presence – all culminating in a showcase on December 11\, where participants will present their progress and future plans. \nNonprofit leaders are paired with mentors and Northeastern student co-ops specializing in business analysis\, marketing\, and design\, ensuring hands-on guidance throughout the program. By fostering “intrapreneurship” — the practice of innovating from within an organization — the program empowers nonprofits to test bold ideas\, create sustainable models\, and scale their impact. \nThis year’s cohort includes: Gulf of Maine Research Institute\, Portland Museum of Art\, Camp Sunshine\, Marine Mammals of Maine\, Maine Discovery Museum\, Mayo Street Arts\, Ketcha Outdoors\, ArtVan\, Diverse BookFinder\, and Maine Inside Out.
URL:https://roux.northeastern.edu/event/intrapreneurship-for-nonprofits-avangrid-foundation/
LOCATION:Northeastern University’s Roux Institute\, 100 Fore Street\, Portland\, 04101\, United States
CATEGORIES:Startup Community
ATTACH;FMTTYPE=image/png:https://roux.northeastern.edu/wp-content/uploads/Screenshot-2025-09-29-at-2.04.32-PM.png
END:VEVENT
END:VCALENDAR