BEGIN:VCALENDAR
VERSION:2.0
PRODID:-//Roux Institute at Northeastern University - ECPv6.10.2//NONSGML v1.0//EN
CALSCALE:GREGORIAN
METHOD:PUBLISH
X-WR-CALNAME:Roux Institute at Northeastern University
X-ORIGINAL-URL:https://roux.northeastern.edu
X-WR-CALDESC:Events for Roux Institute at Northeastern University
REFRESH-INTERVAL;VALUE=DURATION:PT1H
X-Robots-Tag:noindex
X-PUBLISHED-TTL:PT1H
BEGIN:VTIMEZONE
TZID:America/New_York
BEGIN:DAYLIGHT
TZOFFSETFROM:-0500
TZOFFSETTO:-0400
TZNAME:EDT
DTSTART:20240310T070000
END:DAYLIGHT
BEGIN:STANDARD
TZOFFSETFROM:-0400
TZOFFSETTO:-0500
TZNAME:EST
DTSTART:20241103T060000
END:STANDARD
END:VTIMEZONE
BEGIN:VEVENT
DTSTART;TZID=America/New_York:20241206T120000
DTEND;TZID=America/New_York:20241206T133000
DTSTAMP:20260425T190056
CREATED:20241202T142534Z
LAST-MODIFIED:20241202T142620Z
UID:17839-1733486400-1733491800@roux.northeastern.edu
SUMMARY:What's Next for Science: Geophysics and Climate Data
DESCRIPTION:Join the Roux’s ClimateTech Incubator and E2Tech for a “mini AGU” conference here at the Roux! Several of our ClimateTech Incubator members and researchers from our AI for Climate & Sustainability group are headed to the AGU (American Geophysical Union) annual meeting\, the largest gathering of Earth and space scientists\, which convenes 25\,000+ attendees from 100+ countries. Before they head to D.C. for the official conference\, we’re giving you a look at all the amazing work that’s being done here at the Roux. We’ll have several oral presentations and then time for networking and browsing the team’s poster presentations.
URL:https://roux.northeastern.edu/event/whats-next-for-science-geophysics-and-climate-data/
LOCATION:The Roux Institute at Northeastern University\, 100 Fore Street\, Portland\, ME\, 04101
CATEGORIES:ClimateTech Incubator,Startup Community
ATTACH;FMTTYPE=image/png:https://roux.northeastern.edu/wp-content/uploads/Screenshot-2024-12-02-at-8.22.34 AM-Dunham-Terra-Dunham-e1733149431955.png
END:VEVENT
END:VCALENDAR