BEGIN:VCALENDAR
VERSION:2.0
PRODID:-//Roux Institute at Northeastern University - ECPv6.10.2//NONSGML v1.0//EN
CALSCALE:GREGORIAN
METHOD:PUBLISH
X-WR-CALNAME:Roux Institute at Northeastern University
X-ORIGINAL-URL:https://roux.northeastern.edu
X-WR-CALDESC:Events for Roux Institute at Northeastern University
REFRESH-INTERVAL;VALUE=DURATION:PT1H
X-Robots-Tag:noindex
X-PUBLISHED-TTL:PT1H
BEGIN:VTIMEZONE
TZID:America/New_York
BEGIN:DAYLIGHT
TZOFFSETFROM:-0500
TZOFFSETTO:-0400
TZNAME:EDT
DTSTART:20250309T070000
END:DAYLIGHT
BEGIN:STANDARD
TZOFFSETFROM:-0400
TZOFFSETTO:-0500
TZNAME:EST
DTSTART:20251102T060000
END:STANDARD
END:VTIMEZONE
BEGIN:VEVENT
DTSTART;TZID=America/New_York:20250502T120000
DTEND;TZID=America/New_York:20250502T133000
DTSTAMP:20260423T224921
CREATED:20250428T195451Z
LAST-MODIFIED:20250428T195451Z
UID:18365-1746187200-1746192600@roux.northeastern.edu
SUMMARY:Climate Innovation Chat: A Manifesto for Organization-Wide AI Integration with Adrian Del Balso
DESCRIPTION:Discover how AI is revolutionizing product development for organizations of every size! Learn essential strategies for selecting the right AI tools\, implementing them efficiently\, and addressing crucial environmental and regulatory concerns. Our speaker\, ClimateTech Incubator member and Eli Technologies’ co-founder and Head of Product\, Adrian del Balso\, shares real-world examples and practical frameworks that will transform your approach to AI. Don’t fall behind—join us to unlock the competitive advantage your product team needs! \nThe ClimateTech Speaker Series is a joint initiative between the ClimateTech Incubator at Northeastern University’s Roux Institute and E2Tech and is sponsored by the Maine Governor’s Energy Office.  This program is part of an ongoing speaker series focused on AI\, climate\, and energy.
URL:https://roux.northeastern.edu/event/climate-innovation-chat-a-manifesto-for-organization-wide-ai-integration-with-adrian-del-balso/
LOCATION:Northeastern University’s Roux Institute Amphitheater\, 100 Fore Street\, Portland\, ME\, 04101\, United States
CATEGORIES:ClimateTech Incubator,Startup Community
ATTACH;FMTTYPE=image/png:https://roux.northeastern.edu/wp-content/uploads/ClimateTech-Speaker-Series-Adrian-Del-Balso-Eli-Technologies.png
END:VEVENT
BEGIN:VEVENT
DTSTART;TZID=America/New_York:20250508T073000
DTEND;TZID=America/New_York:20250508T103000
DTSTAMP:20260423T224921
CREATED:20250325T195846Z
LAST-MODIFIED:20250325T195846Z
UID:18312-1746689400-1746700200@roux.northeastern.edu
SUMMARY:Mainebiz Women's Leadership Forum 2025
DESCRIPTION:The Mainebiz Women’s Leadership Forum brings together a panel of women executives to share their unique experiences and perspectives on leadership through personal stories and key learnings. This year’s focus is leveraging partnerships for growth: harnessing the power of networks\, collaboration\, and mentorship. \nModerated by Katie Shorey\, President of Startup Maine and Director of Engagement at Live + Work in Maine\, the panel will feature: \n•Michelle Anderson\, President & CEO of Junior Achievement of Maine \n•Mufalo Chitam\, Executive Director of the Maine Immigrants’ Rights Coalition \n•Liz Kohler\, Managing Director of Strategy\, Operations\, & Growth at Northeastern University’s Roux Institute \n•Andrea Cianchette Maker\, President & Co-Chair of FocusMaine \n•Laura Rinck\, President of Rinck Advertising \n 
URL:https://roux.northeastern.edu/event/mainebiz-womens-leadership-forum-2025/
LOCATION:Good Theater at Stevens Square\, 631 Stevens Avenue\, Portland\, ME\, 04103\, United States
CATEGORIES:Partner Community
ATTACH;FMTTYPE=image/avif:https://roux.northeastern.edu/wp-content/uploads/Mainebiz-WLF.avif
END:VEVENT
BEGIN:VEVENT
DTSTART;TZID=America/New_York:20250508T080000
DTEND;TZID=America/New_York:20250508T160000
DTSTAMP:20260423T224921
CREATED:20250417T194743Z
LAST-MODIFIED:20250417T194743Z
UID:18349-1746691200-1746720000@roux.northeastern.edu
SUMMARY:ClimateWork Maine 2025 Summit on Maine's Economy and Climate Change
DESCRIPTION:Join ClimateWork Maine for the 3rd Annual Summit on Maine’s Economy & Climate Change. This pivotal event will take place on May 8\, 2025\, and it promises to be a day filled with informative sessions and engaging discussions that focus on actionable climate solutions. \nThis summit is not just another conference; it’s an opportunity to make a real difference in your community and your business. Whether you are a business owner looking to adopt sustainable practices or an advocate for change in your local area\, this summit will equip you with the tools you need to drive climate action effectively. Together\, we can forge a better future for Maine. It’s time to come together\, share ideas\, and collaborate on innovative solutions that address the pressing challenges of climate change. \nThis summit brings together industry experts\, thought leaders\, and passionate individuals like yourself\, all committed to finding innovative solutions. RSVP to explore how climate change will reshape Maine’s economy and provide actionable strategies for sustainable growth.
URL:https://roux.northeastern.edu/event/climatework-maine-2025-summit-on-maines-economy-and-climate-change/
LOCATION:Augusta Civic Center\, 76 Community Drive\, Augusta\, ME\, 04330\, United States
CATEGORIES:ClimateTech Incubator,Startup Community
ATTACH;FMTTYPE=image/png:https://roux.northeastern.edu/wp-content/uploads/ClimateWork-Maine-Summit-2025.png
END:VEVENT
BEGIN:VEVENT
DTSTART;TZID=America/New_York:20250509T120000
DTEND;TZID=America/New_York:20250509T133000
DTSTAMP:20260423T224921
CREATED:20250428T195828Z
LAST-MODIFIED:20250428T195828Z
UID:18368-1746792000-1746797400@roux.northeastern.edu
SUMMARY:Fish Tales: Stories about Modernizing Oceanographic and Fisheries Data Collection
DESCRIPTION:Maine’s ocean and fisheries industries play a vital role in the state’s economy and way of life — but the impact of the data they generate can range far beyond just the traditional uses. \nFrom tracking extreme weather events to monitoring local fish populations and detecting long-term temperature trends\, ocean data is a powerful tool for understanding and responding to environmental changes. \nWith a growing variety and abudance of oceanic data\, it’s important to discuss how that data is best used to bring innovation and climate resilience to Maine. Join us May 9 at 12:00 pm for a conversation with New England Marine Monitoring and Ocean Data Network about data collection and how technology and climate change are impacting the type of data collected. \nThe ClimateTech Speaker Series is a joint initiative between the ClimateTech Incubator at Northeastern University’s Roux Institute and E2Tech and is sponsored by the Maine Governor’s Energy Office.  This program is part of an ongoing speaker series focused on AI\, climate\, and energy.
URL:https://roux.northeastern.edu/event/fish-tales-stories-about-modernizing-oceanographic-and-fisheries-data-collection/
LOCATION:Northeastern University’s Roux Institute\, Room 132\, 100 Fore Street\, Portland\, ME\, 04101\, United States
CATEGORIES:ClimateTech Incubator,Startup Community
ATTACH;FMTTYPE=image/png:https://roux.northeastern.edu/wp-content/uploads/ClimateTech-Speaker-Series-Ocean-Data-Network-NEMM.png
END:VEVENT
BEGIN:VEVENT
DTSTART;TZID=America/New_York:20250514T120000
DTEND;TZID=America/New_York:20250514T123000
DTSTAMP:20260423T224921
CREATED:20250206T203544Z
LAST-MODIFIED:20260311T151412Z
UID:18064-1747224000-1747225800@roux.northeastern.edu
SUMMARY:Virtual Information Session | Graduate Programs at the Roux Institute
DESCRIPTION:Build Your Rewarding Career in Tech \n\n\n\n\nNortheastern University’s Roux Institute is a hub of graduate education and innovation in scenic Portland\, Maine.  We invite you to join an upcoming Virtual Information Session hosted by our Graduate Admissions Team for the Portland\, Maine campus. \n\n\n\n\nWhen you enroll at Northeastern University’s Roux Institute\, you will: \n\n\n\n\n\n\n\n\n– Join our thriving campus community of more than 500 graduate learners from around the world; \n– Learn from Northeastern’s world-renowned faculty and researchers in Portland\, Maine; \n– Discover the joys and convenience of life in the oceanfront city of Portland\, Maine\, named as the 8th-best city to live in the United States (U.S. News & World Report\, 2022); \n– Gain access to the powerful Northeastern University network\, with the flagship Boston campus conveniently located less than 2 hours away via car\, bus\, or train \nWe can’t wait to see!
URL:https://roux.northeastern.edu/event/virtual-information-session-graduate-programs-at-the-roux-institute/
LOCATION:Virtual Event
CATEGORIES:Prospective Students
ATTACH;FMTTYPE=image/jpeg:https://roux.northeastern.edu/wp-content/uploads/AG016880A.jpg
END:VEVENT
BEGIN:VEVENT
DTSTART;TZID=America/New_York:20250514T123000
DTEND;TZID=America/New_York:20250514T130000
DTSTAMP:20260423T224921
CREATED:20250207T002245Z
LAST-MODIFIED:20260311T162739Z
UID:18075-1747225800-1747227600@roux.northeastern.edu
SUMMARY:Application Workshops
DESCRIPTION:Join us for a virtual application workshop. All application stages are welcome for personalized support on essays\, recommendations\, and submission. We’ll help you cross the finish line! \nWhether you have almost completed your application\, or are just beginning\, we are here to help. We will have a general presentation and personalized breakout sessions to assist with best application practices from start to finish. \n\n\n\n\nWe can’t wait to meet you online.
URL:https://roux.northeastern.edu/event/application-workshops-6/
LOCATION:Virtual Event
CATEGORIES:Prospective Students
ATTACH;FMTTYPE=image/jpeg:https://roux.northeastern.edu/wp-content/uploads/AG015717.jpg
END:VEVENT
BEGIN:VEVENT
DTSTART;TZID=America/New_York:20250521T190000
DTEND;TZID=America/New_York:20250521T200000
DTSTAMP:20260423T224921
CREATED:20250410T144010Z
LAST-MODIFIED:20250417T200637Z
UID:18338-1747854000-1747857600@roux.northeastern.edu
SUMMARY:Federal Employee and Military Info Session
DESCRIPTION:As many federal employees confront uncertainty and changes to their professional futures\, Northeastern is offering up to 25% tuition scholarships and flexible educational pathways for affected individuals to reskill\, rebuild\, and make their next career move. \nJoin us on May 21 for an info session designed specifically for transitioning federal employees\, individuals in military service\, and those dedicated to public service. You’ll learn about Northeastern graduate programs that turn your hard-earned experience and skills into next-level career opportunities. We value your passion to serve. \nDuring the event\, you’ll be able to: \nGet information on funding your education. \nLearn how you can work one-on-one with an enrollment recruiter. \nExplore the power of experiential learning to accelerate your career growth. \nDiscover how Northeastern’s employer partners can support your career transition.
URL:https://roux.northeastern.edu/event/federal-employee-and-military-info-session/
ATTACH;FMTTYPE=image/png:https://roux.northeastern.edu/wp-content/uploads/IG-Grid-Size-Federal-Employee-Event.png
END:VEVENT
END:VCALENDAR