BEGIN:VCALENDAR
VERSION:2.0
PRODID:-//Roux Institute at Northeastern University - ECPv6.10.2//NONSGML v1.0//EN
CALSCALE:GREGORIAN
METHOD:PUBLISH
X-WR-CALNAME:Roux Institute at Northeastern University
X-ORIGINAL-URL:https://roux.northeastern.edu
X-WR-CALDESC:Events for Roux Institute at Northeastern University
REFRESH-INTERVAL;VALUE=DURATION:PT1H
X-Robots-Tag:noindex
X-PUBLISHED-TTL:PT1H
BEGIN:VTIMEZONE
TZID:America/New_York
BEGIN:DAYLIGHT
TZOFFSETFROM:-0500
TZOFFSETTO:-0400
TZNAME:EDT
DTSTART:20260308T070000
END:DAYLIGHT
BEGIN:STANDARD
TZOFFSETFROM:-0400
TZOFFSETTO:-0500
TZNAME:EST
DTSTART:20261101T060000
END:STANDARD
END:VTIMEZONE
BEGIN:VEVENT
DTSTART;TZID=America/New_York:20260305T170000
DTEND;TZID=America/New_York:20260305T190000
DTSTAMP:20260424T004649
CREATED:20260129T210251Z
LAST-MODIFIED:20260204T175930Z
UID:19051-1772730000-1772737200@roux.northeastern.edu
SUMMARY:Climate Salon: Accelerating ClimateTech Innovation
DESCRIPTION:Building climate & energy ventures\, whether software or hardware solutions\, is a group sport. Startup teams need an ecosystem of supporters around them — and customers who are ready to help them grow. During this Climate Salon\, join us to discuss what it takes to scale across: \n\nBlue economy\nBuilt environment\nEnergy & electrification\nFood & ag\nSoftware & AI\n\nTable Leads include: Mike Jackson (Managing Director of Earthshot Ventures)\, Will Hewes (Water Sustainability Lead at Amazon)\, Amy Piscopo (Data Scientist at WattTime/Climate TRACE)\, and other experts driving climate solutions in our region and beyond. \n  \nThis event is hosted by:\nThe ClimateTech Incubator\, based at Northeastern University’s Roux Institute campus in Portland\, Maine\, is a hub for climatetech startups. In addition to desk and prototyping space\, members have access to Northeastern’s global network of mentors\, researchers\, and students\, as well as the Roux Institute’s curated network of entrepreneurs\, investors\, and corporate partners. Members also benefit from a robust program of guest speakers\, networking events\, access to professional services\, and more. \nClimate Salon is a 501c3 nonprofit organization focused on bringing stakeholders together to solve climate challenges. Through educational events\, its network of support organizations\, and charitable giving\, Climate Salon accelerates community action to bring ideas to life. \n  \nFeaturing:\nCleantech Open is the world’s largest cleantech startup accelerator\, empowering entrepreneurs to tackle today’s most pressing environmental and energy challenges. Through our annual accelerator Cleantech Open connects startups with the expertise\, resources\, and visibility needed to scale and succeed. For over twenty years\, Cleantech Open Northeast has accelerated over 670 startups and looks ahead to supporting our 2026 cohort as we build solutions with lasting impact. \n  \nApply to Cleantech Open 2026 by April 6: http://cleantechopen.org/
URL:https://roux.northeastern.edu/event/climate-salon/
LOCATION:Northeastern University’s Roux Institute\, 100 Fore Street\, Portland\, 04101\, United States
CATEGORIES:ClimateTech Incubator,Startup Community
ATTACH;FMTTYPE=image/webp:https://roux.northeastern.edu/wp-content/uploads/Climate-Salon-Roux-Institute-March-26-2.webp
END:VEVENT
BEGIN:VEVENT
DTSTART;TZID=America/New_York:20260317T170000
DTEND;TZID=America/New_York:20260317T190000
DTSTAMP:20260424T004649
CREATED:20250825T181838Z
LAST-MODIFIED:20260220T165608Z
UID:18619-1773766800-1773774000@roux.northeastern.edu
SUMMARY:Breaking Barriers: Lessons from Female Founders Changing the Game
DESCRIPTION:Presented by Northeastern University’s Roux Institute \nThis signature event celebrates the remarkable women who are shaping Maine’s future through entrepreneurship\, leadership\, and innovation. Part of Northeastern’s global Women Who Empower initiative\, the program spotlights inspiring stories of impact while fostering mentorship and collaboration. Attendees will hear from trailblazing women entrepreneurs and leaders across industries. The event creates a powerful platform for connection\, empowerment\, and advancing gender equity in Maine’s innovation economy. 
URL:https://roux.northeastern.edu/event/women-who-empower-2/
LOCATION:Northeastern University’s Roux Institute\, 100 Fore Street\, Portland\, 04101\, United States
ATTACH;FMTTYPE=image/webp:https://roux.northeastern.edu/wp-content/uploads/cover-photo.webp
END:VEVENT
BEGIN:VEVENT
DTSTART;TZID=America/New_York:20260318T173000
DTEND;TZID=America/New_York:20260318T193000
DTSTAMP:20260424T004649
CREATED:20250206T194949Z
LAST-MODIFIED:20260303T154430Z
UID:18060-1773855000-1773862200@roux.northeastern.edu
SUMMARY:Open House at The Roux Institute
DESCRIPTION:Discover Northeastern University graduate programs offered at the Roux Institute in Portland\, Maine. Learn about our programs from expert faculty\, connect with current students to get to know the Roux community and chat with Enrollment and Financial Aid Counselors. \nWhether you are exploring the possibility of graduate school for the first time\, or are ready to start an application\, we’re excited to meet you. Join us to meet expert faculty members\, tour the campus\, connect with current students and learn about generous scholarships. \n\n\n\n\nWe can’t wait to meet you on campus.
URL:https://roux.northeastern.edu/event/open-house-at-the-roux-institute/
LOCATION:The Roux Institute at Northeastern University\, 100 Fore Street\, Portland\, ME\, 04101
CATEGORIES:Prospective Students
ATTACH;FMTTYPE=image/jpeg:https://roux.northeastern.edu/wp-content/uploads/AG015387.jpg
END:VEVENT
BEGIN:VEVENT
DTSTART;TZID=America/New_York:20260324T173000
DTEND;TZID=America/New_York:20260609T180000
DTSTAMP:20260424T004649
CREATED:20250207T001718Z
LAST-MODIFIED:20260401T133150Z
UID:18073-1774373400-1781028000@roux.northeastern.edu
SUMMARY:Virtual Information Session | Graduate Programs at the Roux Institute
DESCRIPTION:Build Your Rewarding Career in Tech \n\n\n\n\nNortheastern University’s Roux Institute is a hub of graduate education and innovation in scenic Portland\, Maine.  We invite you to join an upcoming Virtual Information Session hosted by our Graduate Admissions Team for the Portland\, Maine campus. \n\n\n\n\nWhen you enroll at Northeastern University’s Roux Institute\, you will: \n\n\n\n\n\n\n\n\n– Join our thriving campus community of more than 500 graduate learners from around the world; \n– Learn from Northeastern’s world-renowned faculty and researchers in Portland\, Maine; \n– Discover the joys and convenience of life in the oceanfront city of Portland\, Maine\, named as the 8th-best city to live in the United States (U.S. News & World Report\, 2022); \n– Gain access to the powerful Northeastern University network\, with the flagship Boston campus conveniently located less than 2 hours away via car\, bus\, or train \nWe can’t wait to see!
URL:https://roux.northeastern.edu/event/virtual-information-session-graduate-programs-at-the-roux-institute-3/
LOCATION:Virtual Event
CATEGORIES:Prospective Students
ATTACH;FMTTYPE=image/jpeg:https://roux.northeastern.edu/wp-content/uploads/AG017325A.jpg
END:VEVENT
END:VCALENDAR